BEGIN:VCALENDAR
VERSION:2.0
PRODID:-//UHA Business School | Université de Haute-Alsace - ECPv6.15.16//NONSGML v1.0//EN
CALSCALE:GREGORIAN
METHOD:PUBLISH
X-ORIGINAL-URL:https://www.business-school.uha.fr
X-WR-CALDESC:Évènements pour UHA Business School | Université de Haute-Alsace
REFRESH-INTERVAL;VALUE=DURATION:PT1H
X-Robots-Tag:noindex
X-PUBLISHED-TTL:PT1H
BEGIN:VTIMEZONE
TZID:Europe/Paris
BEGIN:DAYLIGHT
TZOFFSETFROM:+0100
TZOFFSETTO:+0200
TZNAME:CEST
DTSTART:20250330T010000
END:DAYLIGHT
BEGIN:STANDARD
TZOFFSETFROM:+0200
TZOFFSETTO:+0100
TZNAME:CET
DTSTART:20251026T010000
END:STANDARD
BEGIN:DAYLIGHT
TZOFFSETFROM:+0100
TZOFFSETTO:+0200
TZNAME:CEST
DTSTART:20260329T010000
END:DAYLIGHT
BEGIN:STANDARD
TZOFFSETFROM:+0200
TZOFFSETTO:+0100
TZNAME:CET
DTSTART:20261025T010000
END:STANDARD
BEGIN:DAYLIGHT
TZOFFSETFROM:+0100
TZOFFSETTO:+0200
TZNAME:CEST
DTSTART:20270328T010000
END:DAYLIGHT
BEGIN:STANDARD
TZOFFSETFROM:+0200
TZOFFSETTO:+0100
TZNAME:CET
DTSTART:20271031T010000
END:STANDARD
END:VTIMEZONE
BEGIN:VEVENT
DTSTART;TZID=Europe/Paris:20260307T090000
DTEND;TZID=Europe/Paris:20260307T160000
DTSTAMP:20260419T170751
CREATED:20260213T160403Z
LAST-MODIFIED:20260216T161444Z
UID:6292-1772874000-1772899200@www.business-school.uha.fr
SUMMARY:Journée Portes Ouvertes - Samedi 7 Mars 202
DESCRIPTION:L’UHA Business School ouvrira ses portes pour une journée rythmée ! \nRendez-vous au Bâtiment A\, de 9h à 16h\, pour faire le plein d’infos\, d’activités et de découvertes ! \n\n Notre programme en détail :\nVendredi 6 mars 2026\nÉMISSION RADIO FLOR FM – AMPHI 227\nDe 7h à 10h\nOuvert au public \nSamedi 7 mars 2026\nPOINT INFOS – FOYER DES ÉTUDIANTS\nToute la journée\nRetrouvez-nous dans la nouvelle Amicale des étudiants pour un moment chaleureux autour d’un café.\nL’occasion idéale d’échanger avec notre équipe et nos étudiants. \nPRÉSENTATION DES FORMATIONS – SALLE 004\nToute la journée\nNos enseignants vous présentent l’ensemble de nos formations\, leurs spécificités et les débouchés professionnels associés. On vous parlera également des relations à l’international ! \nMINI-CONFÉRENCES – SALLE 003\nThématiques : Marketing & Franchise – Format : 10 minutes\n \nDe 9h à 12h\n« Psychologie du consommateur et stratégies média : les clés d’une communication efficace en 2026 »\nAvec Delphine JACQUES\, gérante de MA SOLUTION MEDIA \nToute la journée\n« Le secret des grandes enseignes françaises en 15 minutes chrono ! »\nAvec Saloua BENNAGMOUCH MAIRE\, directrice de l’UHA Business School\, et Christophe KUNTSCHMANN\, expert en conseil aux entreprises \nJEUX & BLIND TEST – SALLE 002\nToute la journée\nTestez vos connaissances en marketing dans une ambiance ludique… et repartez avec des goodies. \nVISITE GUIDÉE DU CAMPUS\nToute la journée – départ sous la tente devant le bâtiment A\nNos étudiants ambassadeurs vous accompagnent pour découvrir les espaces de vie\, les salles de cours et l’environnement de la Business School.
URL:https://www.business-school.uha.fr/evenement/journees-portes-ouvertes-samedi-7-mars-2026/
LOCATION:UHA Business Scool\, 32 rue du Grillenbreit\, Colmar\, 68008\, France
CATEGORIES:JPO
ATTACH;FMTTYPE=image/jpeg:https://www.business-school.uha.fr/wp-content/uploads/2026/02/Visuel-JPO.jpg
ORGANIZER;CN="UHA Business School":MAILTO:business-school@uha.fr
END:VEVENT
END:VCALENDAR